BEGIN:VCALENDAR
VERSION:2.0
PRODID:-//Tukios.com/
BEGIN:VEVENT
UID:83531ba3-cd35-4748-8f02-35ddcb2b39a9@www.jordanfuneralgroup.com
DTSTAMP:20260421T002648Z
DTSTART:20260425T140000Z
DTEND:20260425T160000Z
SUMMARY:Visitation
DESCRIPTION:
URL:https://www.jordanfuneralgroup.com/obituaries/minnie-newman
LOCATION:Campbell Funeral Home 609 W Main St  Carmi IL 62821
GEO:38.0844757;-88.1679131
END:VEVENT
END:VCALENDAR