BEGIN:VCALENDAR
VERSION:2.0
PRODID:-//Tukios.com/
BEGIN:VEVENT
UID:9ae848a5-f73d-4c76-ba50-006a5eb963bb@www.jordanfuneralgroup.com
DTSTAMP:20260421T002852Z
DTSTART:20260423T153000Z
DTEND:20260423T163000Z
SUMMARY:Funeral Service
DESCRIPTION:
URL:https://www.jordanfuneralgroup.com/obituaries/delmas-allen
LOCATION: 609 W Main St  Carmi IL 62821
GEO:38.0844757;-88.1679131
END:VEVENT
END:VCALENDAR