BEGIN:VCALENDAR
VERSION:2.0
PRODID:-//Tukios.com/
BEGIN:VEVENT
UID:b01993b7-16dc-4bee-89f7-9e2d926fa610@www.jordanfuneralgroup.com
DTSTAMP:20260421T002948Z
DTSTART:20260422T210000Z
DTEND:20260423T000000Z
SUMMARY:Visitation
DESCRIPTION:
URL:https://www.jordanfuneralgroup.com/obituaries/delmas-allen
LOCATION:Campbell Funeral Home 609 W Main St  Carmi IL 62821
GEO:38.0844757;-88.1679131
END:VEVENT
END:VCALENDAR